BEGIN:VCALENDAR
VERSION:2.0
PRODID:-//Kocouří cviky - ECPv6.3.3.1//NONSGML v1.0//EN
CALSCALE:GREGORIAN
METHOD:PUBLISH
X-ORIGINAL-URL:https://www.kocouricviky.cz
X-WR-CALDESC:Akce na Kocouří cviky
REFRESH-INTERVAL;VALUE=DURATION:PT1H
X-Robots-Tag:noindex
X-PUBLISHED-TTL:PT1H
BEGIN:VTIMEZONE
TZID:UTC
BEGIN:STANDARD
TZOFFSETFROM:+0000
TZOFFSETTO:+0000
TZNAME:UTC
DTSTART:20160101T000000
END:STANDARD
END:VTIMEZONE
BEGIN:VEVENT
DTSTART;TZID=UTC:20160923T080000
DTEND;TZID=UTC:20160928T170000
DTSTAMP:20260422T151310
CREATED:20160818T102208Z
LAST-MODIFIED:20160818T102628Z
UID:508-1474617600-1475082000@www.kocouricviky.cz
SUMMARY:Školení ve cvičení O-A metodou - podzim 2016 / zima 2017
DESCRIPTION:Obsah školení\, certifikáty\, termíny  \nŠkolení je dotováno 150 výukovými hodinami. Zahrnuje přednášky\, praxi\, hospitace\, vlastní pedagogickou praxi s ostatními účastníky školení i cvičenci.  Každý cyklus je uzavřen písemnou a ústní závěrečnou zkouškou. Pro každou část školení získává úspěšný absolvent certifikát\, který ho opravňuje k provozování vlastní praxe v oboru Pohyb vsedě a Správná chůze. \nNa toto základní školení navazuje stupenň Master\, který opravňuje k samostatné lektorské činnosti\, a  stupeň Teacher\, který opravňující ke školení ve cvičení O-A metodou. \nŠkolení probíhá ve třech 5-idenních cyklech uspořádaných tematicky takto: \n  \nI. část:      Pohyb vsedě         (23. – 28.9. 2016;          2. –     7. 2. 2017) \nII. část:    O-A diagnostika (15. – 20. 11. 2016;    28.4.  – 2. 5. 2017) \nIII. část:  Správná chůze    (12. – 17.  1. 2017;        4.    –   9.7. 2017) \n(V závorce jsou uvedeny plánované termíny školení ve II. polovině roku 2016 a  1. polovině roku 2017. Ve výjimečných případech je možné absolvovat některý cyklus i v rámci jiného školícího období). \nCena  \nCelé školení:  11.900\,- Kč (splatné i po částech)\n \nCena samostatně absolvovaných cyklů:  Pohyb vsedě 5.400\,- Kč \nO-A diagnostika 3.900\,- Kč \nSprávná chůze 6.700\,- Kč \nK přihlášení či případným dotazům využijte prosím formuláře níže.
URL:https://www.kocouricviky.cz/event/skoleni-ve-cviceni-o-a-metodou-podzim-2016-zima-2017/
LOCATION:Úřad vlády\, Nábř. E. Beneše 4\, Praha\, 11000\, Česká republika
CATEGORIES:Školení ve cvičení O-A metodou
END:VEVENT
END:VCALENDAR