BEGIN:VCALENDAR
VERSION:2.0
PRODID:-//Kocouří cviky - ECPv6.3.3.1//NONSGML v1.0//EN
CALSCALE:GREGORIAN
METHOD:PUBLISH
X-WR-CALNAME:Kocouří cviky
X-ORIGINAL-URL:https://www.kocouricviky.cz
X-WR-CALDESC:Akce na Kocouří cviky
REFRESH-INTERVAL;VALUE=DURATION:PT1H
X-Robots-Tag:noindex
X-PUBLISHED-TTL:PT1H
BEGIN:VTIMEZONE
TZID:Europe/Prague
BEGIN:DAYLIGHT
TZOFFSETFROM:+0100
TZOFFSETTO:+0200
TZNAME:CEST
DTSTART:20220327T010000
END:DAYLIGHT
BEGIN:STANDARD
TZOFFSETFROM:+0200
TZOFFSETTO:+0100
TZNAME:CET
DTSTART:20221030T010000
END:STANDARD
TZID:UTC
BEGIN:STANDARD
TZOFFSETFROM:+0000
TZOFFSETTO:+0000
TZNAME:UTC
DTSTART:20160101T000000
END:STANDARD
END:VTIMEZONE
BEGIN:VEVENT
DTSTART;TZID=Europe/Prague:20221021T163000
DTEND;TZID=Europe/Prague:20221021T193000
DTSTAMP:20260424T175228
CREATED:20220428T135121Z
LAST-MODIFIED:20220904T074906Z
UID:2519-1666369800-1666380600@www.kocouricviky.cz
SUMMARY:Správná chůze a mnoho dalšího opět v Brně
DESCRIPTION:Kromě příležitosti vyzkoušet si cvičení  O-A metodou® a pohnout díky němu se svými mnohdy již chronickými potížemi od nohou až po hlavu můžete navštívit též odborněji laděné semináře\, kde si důkladně posvítíme na zatím ne příliš známé končiny antigravitační motoriky a fylogenezi lidské chůze. Lépe pak budete rozumět tomu\, co a proč v nás nefunguje optimálně\, a jaké šance to zlepšit nám dává\, když si zdokonalíme chůzi.       \n\npátek 21.10. seminář Dokonalý pohyb pro každý den zejména pro ty\, kdo mají vážnější zdravotní potíže \nsobota 22. 10. workshop Tajemství správné chůze pro ty\, kteří vědí\, že se musí postarat včas o to\, aby jim nohy sloužily dobře i ve vyšším věku \nneděle 23.10. seminář Gravitační a antigravitační motorika  a seminář Člověk – nedokonale vzpřímený živočich pro ty\, kteří vědí\, jak je pohyb důležitý a že se v něm může skrývat mnohem více\, než tušíme.        \n\nVíce o účelu těchto akcí se dozvíte na těchto odkazech:   \nProč zlepšení chůze pomůže při zdravotních potížích? – Kocouří cviky (kocouricviky.cz) \nCo vám můžeme nabídnout\, abyste se dali do pořádku i vy – Kocouří cviky (kocouricviky.cz)    a zde \nSemináře – správné držení těla a bolesti zad.  – Kocouří cviky (kocouricviky.cz)         \nV případě zájmu o účast na na některé z těchto akcí nezapomeňte v Poznámce upřesnit\, o kterou z těchto akcí máte zájem.           \n\n\n  \n\n\n\n\n\n\n\n\n\nObjednat se na akci\n\nTučně zvýrazněné položky formuláře je nutno vyplnit\n \nVaše jméno\n \n\n \nVaše příjmení\n \n\n \nVáš email\n \n\n \nVáš telefon\n \n\n \nPočet osob\n \n\n \nChcete nám něco vzkázat?\n \n\n \n\n Δ \n\n\n\nOdesláním objednávky vyjadřujete souhlas se zpracováním vašich osobních údajů. Ochrana osobních údajů – Kocouří cviky (kocouricviky.cz) \n  \n 
URL:https://www.kocouricviky.cz/event/spravna-chuze-a-mnoho-dalsiho-opet-v-brne/
LOCATION:Dům sportu ČASPV Brno\, Merhautova 46\, Brno\, Jihomoravský
CATEGORIES:Výjezdní akce
ATTACH;FMTTYPE=image/jpeg:https://www.kocouricviky.cz/wp-content/uploads/2022/05/IMG_3551-2.jpg
ORGANIZER;CN="PaedDr. Olga Chv%C3%A1lov%C3%A1%2CCSc.":MAILTO:oametoda@kocouricviky.cz
END:VEVENT
BEGIN:VEVENT
DTSTART;TZID=Europe/Prague:20220916T163000
DTEND;TZID=Europe/Prague:20220916T193000
DTSTAMP:20260424T175228
CREATED:20220825T112108Z
LAST-MODIFIED:20220826T165610Z
UID:2623-1663345800-1663356600@www.kocouricviky.cz
SUMMARY:Jihočeský festival zdraví 2022 - seminář Chůze a bolesti zad
DESCRIPTION:Proč Vám s potížemi se zády a klouby může pomoci právě seminář Chůze a bolesti zad?  \nVšechny tzv. problémové části těla jsou při chůzi propojeny v jeden celek. Každá z nich v něm zaujímá v různých fázích chůzového pohybu zcela určité místo a plní roli\, již je možné popsat naprosto objektivně pomocí pravidel správného provedení pohybu. \nTato pravidla bývají narušena tím\, jaké postavení jednotlivé problémové části těla zaujímají v  běžném pohybu a jak přispívají k jeho uskutečnění. Na semináři Chůze a bolesti zad společně zjistíme\, o jaké odchylky – v držení těla i pohybu – se jedná.  Projevují se při pohybu vsedě na židli\, při pohybech paží a trupu ve stoji a samozřejmě i při chůzi. Každá taková chyba jasně ukáže\, co ve vašem těle dlouhodobě nefunguje tak\, jak má. \nChůze jako pohyb\, který by nás měl udržovat fit\, kvůli tomu neprostoupí do ztuhlých částí těla nebo přetěžuje klouby v těch\,  které se v odpovědi na zatížení při chůzi dostatečně nezpevní. Existující nedostatky se proto upevňují\, místo aby chůze působila proti nim. Při chůzi kromě toho podvědomě uhýbáme před bolestí a přetěžujeme tak klouby\, které jsou zatím zdravé. Proto je tak důležité\, když se při cvičení proti bolestem kloubů a zad zohlední i chůze.   \nPomocí metodické řady cviků budeme na semináři odstraňovat chyby\, které se projeví u jednotlivých účastníků\, a tím zlepšovat jejich předpoklady pro to\, aby se u nich zlepšila i chůze. I ona má  totiž svá pravidla. Na semináři se s nimi seznámíte a hned si i vyzkoušíte\, jaký vliv má jejich zohlednění na jistotu chůze\, její pružnost a rovnováhu.  \nVše\, co si takto vyladíte na  držení těla i kvalitě dílčích pohybů\, chůzi nevyjímaje\, Vám přinese úlevu od zdravotních potíží. Propojeno v celek lepší chůze Vás bude chránit před tím\, aby se vracely původní potíže a šířily se do zatím zdravých částí těla. Dozvíte se díky tomu\, na co si v běžném pohybu máte dávat pozor a na co byste se měli zaměřit při cvičení právě vy\, aby  se díky zlepšení chůze udržely výsledky ve Vaší problémové části těla a proces nápravy postupoval samovolně dál.     \n \nKomu je seminář určen? \nSeminář je vhodný pro muže i ženy každého věku.   Pokud se Vám nezdá jejich držení těla nebo to\, jak chodí\,  není od věci vzít s sebou i děti\, (12 – 18 let).  Pokud byste chtěli přijít s dětmi nebo je Vám více než 75 let\, uveďte prosím do poznámky v objednávce Dítě + jeho věk nebo 75+. Bude-li Vás takových více\, pokusíme se vytvořit pro Vás v obou těchto případech samostatnou skupinu.  \nCo Vás čeká?\nCvičit se bude ve stoji (chůze\, ramena\, dolní končetiny )\, na židli (bedra\, šíje\, ramena\, dolní končetiny a chodidla) a na zemi (hrudník\, bedra a kyčle).  Vyjdeme od cviků\, na nichž se pozná\, zda pohyb u Vás probíhá tak\, aby odpovídal pravidlům správného provedení pohybu pro tu či onu část těla. Projdeme si metodickou řadu cviků\, které Vám pomohou přijít na správné provedení pohybu a zbavit se chyb\, jichž se při něm běžně dopouštíte. A to nejen proto\, že tato pravidla neznáte\, ale především proto\, že nesprávným provedením pohybu podvědomě kompenzujete nedostatek síly či kloubní pohyblivosti v této nebo jiné části těla.  Tyto – ve své podstatě testovací cviky – Vám ozřejmí\, kde potřebujete zlepšit kloubní pohyblivost\, což je předpoklad toho\, aby se vůbec mohly zapojit ty správné svaly. Díky tomu uděláte důležitý krok pro zlepšení kvality svého pohybu tak\, aby u Vás mohl podporovat správné držení těla a pomohl zbavit se nesprávných pohybových  stereotypů.  \nCo budete potřebovat?\nVezměte se s sebou lehké pohodlné\, nikoli však příliš volné  sportovní oblečení (aby bylo znát\, jak pracují svaly). Dále čistou obuv vhodnou pro cvičení v sále (typu tenisek\, nikoli balerínky či sandály) a ručník  pro cvičení na zemi. (Podložky budou k dispozici\, můžete si však samozřejmě přinést vlastní). Kdyby bylo chladněji\, doporučujeme mít s sebou tričko s dlouhým rukávem nebo lehkou mikinu. Dále pití\, případně lehkou svačinu.  \nK organizaci seminářů\nAbychom mohli každému zaručit\, že náležité péče se dostane i jeho zdravotním potížím a nedostatkům v pohybu\, nebude na seminářích více než 12 osob. Místo na semináři je proto třeba rezervovat odesláním přihlášky prostřednictvím objednávkového formuláře  níže. Předběžná rezervace místa na semináři se mění v  závaznou okamžikem připsání platby za seminář na účet  pořadatele – 173 213 8013 / 3030).    \nJihočeský festival zdraví přispívá na tuto akci ze 30%. Částka pro zaslání platby činí tedy 590\,- Kč.        \nV případě\, že by zájem o tento seminář byl větší než kapacita 36 míst v již vypsaných třech termínech\, nebo by platba přišla v době\, kdy seminář ve Vámi zvoleném  termínu by byl již obsazen\, platbu Vám vrátíme nebo Vám nabídneme náhradní sobotní či nedělní termín  semináře. Platba se automaticky nevrací  u závazných rezervací. Své místo můžete však postoupit někomu jinému a vyrovnat se s ním.  V tom případě je však třeba\, abyste nám oznámili\, kdo přijde místo Vás\, a tím stvrdili\, že má zaplaceno. Pokud byste za sebe nesehnali náhradu a Vámi uvolněné místo by se podařilo obsadit dalšími zájemci\, platbu po skončení akce vrátíme i Vám.  \nNenechte si ujít příležitost k lepšímu seznámení s tím\, proč něco nefunguje ideálně právě u Vás. Dopřejte svému mozku komplexní podnět k tomu\, aby Váš pohyb mohl řídit  lépe \,a sobě poznatky o tom\, co pro své zdraví můžete dělat Vy sami.      \n Pokud byste se ještě chtěli na něco zeptat\, beze všeho se na mne obraťte. Pište na oametoda@kocouricviky.cz nebo volejte: 777 030 377.   \nTěším se na viděnou v Třeboni     \nPaedDr. Olga Chválová\, CSc.\, specialistka na zdravotní cvičení\, autorka cvičení O-A metodou® a metodiky nácviku správné chůze  \nUpozornění \nV záhlaví k této informaci o seminářích Chůze a bolesti zad v rámci Jihočeského festivalu zdraví není technicky možné uvést datum všech tří  seminářů.  Nenechte se proto mýlit tím\, že ve výpisu akce vidíte pouze datum prvního ze seminářů\, který se koná v pátek 16.9.  Semináře se konají i  sobotu a neděli.  Do Poznámky v Objednávce nezapomeňte proto uvést datum semináře\, o který máte zájem.  \nDatum a míst konání \nPátek 16.9. \,  sobota 17.9.  a neděle 18.9. vždy od 16:30 do 19:30 hodin v SOŠ Třeboň\, Táboritská 1064       \n\n\n  \n\n\n\n\n\n\n\n\n\nObjednat se na akci\n\nTučně zvýrazněné položky formuláře je nutno vyplnit\n \nVaše jméno\n \n\n \nVaše příjmení\n \n\n \nVáš email\n \n\n \nVáš telefon\n \n\n \nPočet osob\n \n\n \nChcete nám něco vzkázat?\n \n\n \n\n Δ \n\n\n\nOdesláním objednávky vyjadřujete souhlas se zpracováním Vašich osobních údajů. Ochrana osobních údajů – Kocouří cviky (kocouricviky.cz) \n 
URL:https://www.kocouricviky.cz/event/jihocesky-festival-zdravi-2022-seminar-chuze-a-bolesti-zad/
LOCATION:Třeboň\, Hradební 26\, Třeboň\, Česká republika
CATEGORIES:Semináře proti bolestem kloubů a zad,Výjezdní akce
ORGANIZER;CN="PaedDr. Olga Chv%C3%A1lov%C3%A1%2CCSc.":MAILTO:oametoda@kocouricviky.cz
END:VEVENT
BEGIN:VEVENT
DTSTART;VALUE=DATE:20220422
DTEND;VALUE=DATE:20220425
DTSTAMP:20260424T175228
CREATED:20220210T131154Z
LAST-MODIFIED:20220330T092156Z
UID:963-1650585600-1650844799@www.kocouricviky.cz
SUMMARY:Víkendová soustředění: Písek a Adršpach
DESCRIPTION:Víkendová soustředění patří tradičně do nabídky cvičení O-A metodou®. Jsou mimořádnou příležitostí zejména pro mimopražské seznámit se s tímto druhem cvičení a dodat svému organismu díky cvičení pro správnou chůzi silný ozdravný impulz.  Díky tomu\, že při cvičení respektujeme přirozenou dynamiku pohybu a cvičí se i ve stoji\, stačí k tomu cvičení po ránu a v podvečer. Za víkend tedy 4 lekce v trvání 60 – 90 minut\, doplněné hodinovou masáží.  V ceně pobytu je tedy ubytování\, obvykle se snídaní\, 4x cvičení a hodinová masáž.     \nV I. pololetí tohoto roku je už možné využít jen víkendu v Písku a Adršpachu.  \n22. – 24. dubna PÍSEK (z 90% již obsazeno)\nUbytováni budeme v historickém centru Písku v penzionu U Kloudů. Na cvičení se dochází do studia Forbody v městském sportovním areálu. Masáže budou probíhat v masérské školy nedaleko penzionu. na společnou večeři se vydáme do staročeské krčmy\, která se nachází v útrobách hradu krále Přemysla Otakara II. Není prostě možné nechat si ji ujít\, i když nás tam budou  oslovovat jadrnou češtinou coby baby\, pacholky a kdoví jak ještě.      \n \nCena víkendu 2.297\,-  Kč zahrnuje 2x ubytování\, 4x cvičení a 1x hodinovou masáž. Doprava vlastní.    \n5. – 7. srpna  ADRŠPACH  \nV hotelu Metuje situovaném nad údolím u Teplice nad Metují  nás čeká klidné prostředí\, prostorná tělocvična\, nedaleké koupaliště a kozí farma. Věřím ale\, že i tak si najdete čas na výlet do některého ze skalních měst dostupných pěšky i vláčkem.  Vše\, včetně masáží\, se bude konat se vším komfortem přímo v hotelu. Večery bude možné strávit na hotelové terase při country tancích.     \n \nCena víkendu 2.597\,-  Kč zahrnuje 2x ubytování s polopenzí\, 4x cvičení a 1x hodinovou masáž\, kterou zajistí jeden z nejlepších masérů\, jakého jsme kdy potkali. Doprava vlastní\, parkování u hotelu zdarma.  \n  \nV poznámce k objednávce prosím uveďte\, o který víkend máte zájem\, počet osob a požadavek na ubytování  (1-\, 2-\, 3-lůžkový pokoj apod.).    \n\n\n  \n\n\n\n\n\n\n\n\n\nObjednat se na akci\n\nTučně zvýrazněné položky formuláře je nutno vyplnit\n \nVaše jméno\n \n\n \nVaše příjmení\n \n\n \nVáš email\n \n\n \nVáš telefon\n \n\n \nPočet osob\n \n\n \nChcete nám něco vzkázat?\n \n\n \n\n Δ \n\n\n\nOdesláním objednávky vyjadřujete souhlas se zpracováním vašich osobních údajů. Ochrana osobních údajů – Kocouří cviky (kocouricviky.cz) \n  \n  \n 
URL:https://www.kocouricviky.cz/event/vikendova-soustredeni-kromeriz-pisek-adrspach/
LOCATION:Písek\, Sedlčanská 422\, Písek\, Jihočeský\, Česká republika
CATEGORIES:Výjezdní akce
ORGANIZER;CN="PaedDr. Olga Chv%C3%A1lov%C3%A1%2CCSc.":MAILTO:oametoda@kocouricviky.cz
END:VEVENT
BEGIN:VEVENT
DTSTART;TZID=UTC:20190531T080000
DTEND;TZID=UTC:20190602T170000
DTSTAMP:20260424T175228
CREATED:20190309T210451Z
LAST-MODIFIED:20190315T100342Z
UID:891-1559289600-1559494800@www.kocouricviky.cz
SUMMARY:Víkend ve Žďáru nad Sázavou
DESCRIPTION:Srdečně zveme na příští víkendové soustředění pro zdravá záda všechny\,  kteří chtějí skloubit příjemné s užitečným a návštěvu významného kulturního centra na Vysočine spojit se cvičením zaměřeným na zdokonalení chůze a odstranění  potíží s klouby a zády. \nVíkend se bude konat ve dnech 31. května – 2. června ve Žďáru nad Sázavou. \nŽďár leták \nUbytování ve věži místního zámku Vám umožní okusit komfort původního vybavení obytné části zámku. Nachází se v bezprostředním sousedství kostela Sv. Jana Nepomuckého na Zelené hoře a v Muzeu moderní generace nabízí navíc zajímavou a moderně podanou expozici.  \nNa to\, jak pozoruhodné místo naší krásné vlasti navštívíme tentokrát\, se můžete podívat v archivu České televize. 14. března 2019 odvysílala hned dva úžasné pořady o tomto koutu naší krásné vlasti po sobě – ve 21:00 dokument o jedné z nejzachovalejších přírodních lokalit Dvojí srdce Vysočiny a ve 21:30 pořad z cyklu Národní klenoty. Miroslav Táborský v něm svým nezaměnitelným způsobem provází pamětihodnostmi Žďáru nad Sázavo: https://www.ceskatelevize.cz/tv-program/14.03.2019/ \nNa cvičení\, které se počínaje pátkem podvečer bude konat vždy po ránu a v podvečer\,  budeme docházet do Activeclubu v Dolní ulici. K dispozici zde budeme mít nejen sál vybavený zradly\, ale též bossu a trampolíky. Můžete se tedy těšit na velmi atraktivní\, i v tomto aranžmá však strikně zdravotní cvičení ve skupinách do 7 osob\, takže indiviuální přístup je zajištěn. Jedna skupina je vždy určena začátečníkům nebo lidem s většími zdravotními potížemi\, ti pokročilejší se tentokrát budou moci i trochu vydovádět. Víkend je vhodný pro muže i ženy různého věku. \nV ceně víkendu je zahrnuto  ubytování se snídaní\, 4 x cvičení a hodinová masáž.  Doprava vlastní. \n\n\n  \n\n\n\n\n\n\n\n\n\nObjednat si DVD\n\nTučně zvýrazněné položky formuláře je nutno vyplnit\n \nVaše jméno\n \n\n \nVaše příjmení\n \n\n \nVáš email\n \n\n \nVaše adresa\n \n\n \nVáš telefon\n \n\n \nKocouří cviky 1      \nKocouří cviky 2      \nPohyb vsedě          \nChůze jako z partesu \n \nChcete nám něco vzkázat?\n \n\n \n\n Δ
URL:https://www.kocouricviky.cz/event/vikend-ve-zdaru-nad-sazavou/
LOCATION:Žďár nad Sázavou\, Zámek\, Žďár nad Sázavou\, Česká republika
CATEGORIES:Výjezdní akce
END:VEVENT
BEGIN:VEVENT
DTSTART;VALUE=DATE:20181116
DTEND;VALUE=DATE:20181119
DTSTAMP:20260424T175228
CREATED:20170914T115927Z
LAST-MODIFIED:20180910T143419Z
UID:711-1542326400-1542585599@www.kocouricviky.cz
SUMMARY:Víkend se cvičením v Jindřichově Hradci
DESCRIPTION:Ráda bych Vás pozvala na víkendové soustředění pro zdravá záda do Jindřichova Hradce – města\, kde se skutečně nebudete nudit.  Ranní a podvečerní cvičení se koná v příjemné\, čisté tělocvičně místního fitness vybaveného zrcadly na okraji historického centra. Přes den je volný program\, takže budete mít dostatek času na prohlídku místních zajímavostí. Ubytováni budeme v samém centru města v hotelu Vajgar. K dispozici jsou 2-lůžkové pokoje a jeden 4-lůžkový.  Cvičení je zaměřeno na zdokonalení chůze a držení těla. Cvičí se v malých skupinách a každému z účastníků se věnujeme co možná  individuálně. Víkend je vhodný pro ty\, kdo chtějí předejít zdravotním potížím se zády či klouby dolních končetin nebo zjistit\, jak se jich mohou cvičením zbavit.   \nCena 2.390\,- Kč zahrnuje ubytování se snídaní\,  4 cvičení a hodinovou masáž. \n  \n  \n  \n  \n  \n 
URL:https://www.kocouricviky.cz/event/predvanocni-vikend-se-cvicenim-v-kutne-hore/
LOCATION:Jindřichův Hradec\, Náměstí míru\, JIndřichův Hradec\, Česká republika
CATEGORIES:Výjezdní akce
ORGANIZER;CN="PaedDr. Olga Chv%C3%A1lov%C3%A1%2CCSc.":MAILTO:oametoda@kocouricviky.cz
END:VEVENT
BEGIN:VEVENT
DTSTART;VALUE=DATE:20171117
DTEND;VALUE=DATE:20171120
DTSTAMP:20260424T175228
CREATED:20160820T094114Z
LAST-MODIFIED:20171022T195827Z
UID:545-1510876800-1511135999@www.kocouricviky.cz
SUMMARY:Víkend v Telči
DESCRIPTION:Je mi opravdu potěšením nabídnout vám pro pošmourné podzimní dny  cvičební víkend v jednom z nejkrásnějších měst naší země – Telči. Cbičí se bvždy po ránu a v podvečer v malých skupinách. V úvodní části využíváme malé trampolínky\, a to formou zdravotního cvičení na podporu správné chůze.   Jedná se o velmi oblíbený víkendový pobyt\, který se koná několikrát za rok a na krerý se naši  cvičenci hlásí i vícekrát za rok.    \nUbytováni budeme v Penzionu Podolská (Oldřichovo náměstí 26\, Telč – Štěpnice) blízko historické části města. Penzion poskytuje pouze snídaně. Byslí se po 2 – 3 osobách. Máme zde vyčleněno podkroví\, kde se nachází i společná kuchyňka s posezením.  \nNa obvyklé ranní a podvečerní cvičení budeme docházet do nedalekého NIKcentra\, kde budeme mít k dispozici i trampolínky\, donedávna jednu z velmi využívaných forem cvičení O-A metodou.  \nVíkend se koná v termínu 17. – 19.11. \nV ceně 2.390\,- Kč na osobu je ubytování se snídaní\, cvičení a masáž s osvědčeným masérem. Doprava vlastní\, případně spolujízda s některým z účastníků. \n  \n  \n  \n  \n  \n 
URL:https://www.kocouricviky.cz/event/vikend-v-telci/
LOCATION:TELČ – Štěpnice\, Odřichovo nám. 26 \, Telč\, Vysočina\, 588 56\, Česká republika
CATEGORIES:Výjezdní akce
END:VEVENT
BEGIN:VEVENT
DTSTART;VALUE=DATE:20160820
DTEND;VALUE=DATE:20160828
DTSTAMP:20260424T175228
CREATED:20160516T070759Z
LAST-MODIFIED:20160516T071235Z
UID:428-1471651200-1472342399@www.kocouricviky.cz
SUMMARY:Prázdniny pro zdokonalení koordinace a držení těla u dětí i dospělých v Pelhřimově
DESCRIPTION:Přijměte naše pozvání do Pelhřimova\, malebného městečko v kouzelné části Českomoravské vrchoviny. \n \nCelý den volno k toulkám a výletům po krásném kraji\, možnost sportování ve čtyřech tělocvičnách přímo v areálu Domova mládeže\, kde budeme ubytováni\, nedaleko je výborné koupání v krytém bazénu či přírodním rybníku Stráž. \nRáno  a v podvečer vás čeká hodinka cvičení\, při kterém se podíváme na zoubek tomu\, co je třeba u koho povzbudit\, vyladit\, srovnat. V rámci cvičení  O-A metodou si zdokonalíte držení těla a projdete nácvikem správné chůze. Za týden se tímto nenásilným zábavným způsobem nechá zlepšit mnohé\, s čím se dlouhodobě potýkáte. Děti dostanou ty správné informace ve správný čas a objeví či rozvinou svůj pohybový talent. \nDomov mládeže nabízí ubytování ve velmi kvalitních dvou a třílůžkových pokojích s vlastním sociálním zařízením. Na jednotlivých patrech jsou kuchyňky a klubovny s TV. K dispozici máme video\, posilovnu\, pinec a basket.\nTaké můžete popojet (vlakem nebo auty) k nádhernému zatopenému písečnému lomu v Horní Cerekvi. A navíc na vás čeká město Pelhřimov\, lákající k večerním procházkám\, se svými romantickými zákoutími\, sportovními\, kulinářskými i kulturními atrakcemi\, včetně slavného muzea kuriozit agentury „Dobrý den“. \n\n\n\n  \n\n\n\n\n\n\n\n\n\nObjednat se na akci\n\nTučně zvýrazněné položky formuláře je nutno vyplnit\n \nVaše jméno\n \n\n \nVaše příjmení\n \n\n \nVáš email\n \n\n \nVáš telefon\n \n\n \nPočet osob\n \n\n \nChcete nám něco vzkázat?\n \n\n \n\n Δ
URL:https://www.kocouricviky.cz/event/prazdniny-pro-zdokonaleni-koordinace-a-drzeni-tela-u-deti-i-dospelych-v-pelhrimove/
LOCATION:Domov mládeže\, Pelhřimov\, Friedova 1464\, Pelhřimov\, 39301\, Česká republika
CATEGORIES:Výjezdní akce
END:VEVENT
BEGIN:VEVENT
DTSTART;VALUE=DATE:20160617
DTEND;VALUE=DATE:20160620
DTSTAMP:20260424T175228
CREATED:20160516T071120Z
LAST-MODIFIED:20160516T071132Z
UID:430-1466121600-1466380799@www.kocouricviky.cz
SUMMARY:Víkend se cvičením pro zdravá záda na koňské farmě u Náchoda
DESCRIPTION:Jako vždy na našich akcích vás čeká ranní a večerní cvičení\, tentokrát na Kyralově statku u Náchoda. Budete tedy moci vyzkoušet\, jak je to s tou hippoterapií\,  a pokud jste na koni jako doma\, prohlížet si kraj ze sedla. \nCvičit budeme buď přímo na statku a v sobotu navečer si dáme prodlouženou v perfektně vybavené tělocvičně v Náchodě. K uyvtování je jen snídaně\, a tak na pátek chystáme grilování a na sobotu po cvičení procházku večerním Náchodem spojenou s večeří v některé z místních restaurací. \nNáchod a blízké okolí vám jistě nemusíme představovat a nepochybujeme o tom\, že se už sami postaráte o to\, aby i tento víkend byl plný skvělých zážitků. \n\n\n\n  \n\n\n\n\n\n\n\n\n\nObjednat se na akci\n\nTučně zvýrazněné položky formuláře je nutno vyplnit\n \nVaše jméno\n \n\n \nVaše příjmení\n \n\n \nVáš email\n \n\n \nVáš telefon\n \n\n \nPočet osob\n \n\n \nChcete nám něco vzkázat?\n \n\n \n\n Δ
URL:https://www.kocouricviky.cz/event/kend-se-cvicenim-pro-zdrava-zada-na-konske-farme-u-nachoda/
CATEGORIES:Výjezdní akce
END:VEVENT
END:VCALENDAR