BEGIN:VCALENDAR
VERSION:2.0
PRODID:-//Kocouří cviky - ECPv6.3.3.1//NONSGML v1.0//EN
CALSCALE:GREGORIAN
METHOD:PUBLISH
X-WR-CALNAME:Kocouří cviky
X-ORIGINAL-URL:https://www.kocouricviky.cz
X-WR-CALDESC:Akce na Kocouří cviky
REFRESH-INTERVAL;VALUE=DURATION:PT1H
X-Robots-Tag:noindex
X-PUBLISHED-TTL:PT1H
BEGIN:VTIMEZONE
TZID:UTC
BEGIN:STANDARD
TZOFFSETFROM:+0000
TZOFFSETTO:+0000
TZNAME:UTC
DTSTART:20160101T000000
END:STANDARD
END:VTIMEZONE
BEGIN:VEVENT
DTSTART;TZID=UTC:20171106T170000
DTEND;TZID=UTC:20180205T180000
DTSTAMP:20260424T154144
CREATED:20161229T094309Z
LAST-MODIFIED:20171022T200050Z
UID:620-1509987600-1517853600@www.kocouricviky.cz
SUMMARY:Podzimní Kurz správné chůze
DESCRIPTION:Podzimní Kurz správné chůze bude zaháíjen 6. listopadu  2017 a bude probíhat do konce ledna 2018.  \nKoná  se ve studiu Flame Dance\, Sokolovská 22\, Praha 8 vždy v pondělí  od 17 do 18 hodin. \nCena  kurzu  je 1.490\,- Kč. Zameškané lekce je možné si nahradit. \nDalší kurz bude zahájen v únoru 2018. 
URL:https://www.kocouricviky.cz/event/kurzy-spravne-chuze/
LOCATION:Úřad vlády\, Nábř. E. Beneše 4\, Praha\, 11000\, Česká republika
END:VEVENT
BEGIN:VEVENT
DTSTART;TZID=UTC:20171013T170000
DTEND;TZID=UTC:20171015T120000
DTSTAMP:20260424T154144
CREATED:20160818T104316Z
LAST-MODIFIED:20171009T192241Z
UID:509-1507914000-1508068800@www.kocouricviky.cz
SUMMARY:Víkend pro děti\, které chtějí vypadat k světu
DESCRIPTION:Toto soustředění je určeno rodičům\, případně prarodičům\, kteří chtějí pomoci svým dětem\, aby zdravě rostly a už od dětství uměly dobře kontrolovat a ovládat své držení těla. \nVíkend strávíme v samém centru adršpašských skal v penzionu Podskalí  v Bučnici u Teplice nad Metují. K dispozici je i ping-pong\, spinng\, terrabandy a fitbally\, zájemci mohou absolvovat instruktáž v nordic walking. \nJako obvykle si po ránu a v podvečer společně zacvičíme – zvlášť děti a dospělí. Nejméně jednou si však zacvičí rodiny společně\, aby ti dříve narození věděli\, v čem spočívá potíž jejich ratoleti a uměli jí poradit. Program přes den je volný\, nicméně zážitkem sama pro sebe je již penzion Podskalí. Kromě tělocvičny a venkovní trampolínyk a hřišť využujeme i skvělých  podmnínek pro venkovní nácvik chůze a běhu\, takže srdečně zvu i ty\, kteří se věnují běhu a mají sice už výdrž\, potřebují ale udělat něco se svým držením těla a technikou běhu\, aby jim tuto radost nekazily potíže s klouby a páteří. \nCena pro dospělé 2.090\,- Kč zahrnuje ubytování s polopenzí\, 4 lekce cvičení a masáž. U dětí se s masáží nepočítá\, cena je tudíž o to nižší a činí 1.790\,- Kč. \nDoprava vlastní. Ubytování je ve 2 – 4 lůžkových pokojích\, k dispozici je i chatka pro 2 dospělé se 3 dětmi. \n  \n  \n 
URL:https://www.kocouricviky.cz/event/vikendove-soustredeni-na-kylarove-statku-u-nachoda/
LOCATION:Penzion Podskalí v Adršpachu\, Bučnice 221\, Teplice nad Metují\, Česká republika
END:VEVENT
BEGIN:VEVENT
DTSTART;TZID=UTC:20161023T090000
DTEND;TZID=UTC:20161023T150000
DTSTAMP:20260424T154144
CREATED:20160819T061202Z
LAST-MODIFIED:20160819T061944Z
UID:517-1477213200-1477234800@www.kocouricviky.cz
SUMMARY:Seminář O-A diagnostika
DESCRIPTION:Jasné rozlišení toho\, co v pohybovém projevu je a není správné\, je předpokladem toho\, že cvičení bude lidem prospívat. Zdokonalovat se v tom je pro cvičitele povinnost\, laici si na tomto semináři ověří\, zda vše u nich funguje tak\, jak má. Diagnostika není jen návodem ke cvičení\, umožňuje též porozumět příčinám rozmanitých odchylek a zacílit účinek cvičení přímo na ně. \nSeminář je veden výhradně prakticky. Poznat\, který sval je zkrácený a oslabený\, však nestačí. To jsou jen důsledky poruch\, které mají různé příčiny\, vždy ale jednu společnou – nedokonalost řízení pohybu u člověka jako první plně vzpřímené bytosti. Na tomto semináři nahlédnete tedy do kuchyně samotnému mozku. Své znalosti o hodnocení statické funkce pohybového systému – držení těla – a anatomickém pohledu na činnost jednotlivých svalů – si rozšíříte o hodnocení postoje\, jakéhokoli pohybového projevu a centrálních příčinách  funkčních poruch přístupných stimulaci pohybem. \nO-A diagnostikou je komplexní systém hodnocení kvality pohybového projevu člověka a se skládá ze dvou částí: \n1/aplikace Jandova svalového testu pro tělovýchovnou praxi (Čermák  a kol. 1992\, 1998). Tato část diagnostiky stála u zrodu cvičení O-A metodou a slouží k hodnocení zkrácených a oslabených svalů  a jejich vlivu na pohybové stereotypy; \n2/ posturální\, neboli funkční diagnostiky\, podnět k jejímuž vzniku zavdalo právě cvičení O-A metodou. Tento systém diagnostiky doplňuje statický pohled na držení těla o hodnocení dynamických projevů celého těla v základních životních situacích\, tj. při pohybu na místě\, při chůzi a vsedě. \n3/ a pravidel správného pohybu\,  která jsou obecně platným výstupem obou předchozích částí O-A diagnostiky. \n 
URL:https://www.kocouricviky.cz/event/517/
LOCATION:Úřad vlády\, Nábř. E. Beneše 4\, Praha\, 11000\, Česká republika
END:VEVENT
BEGIN:VEVENT
DTSTART;TZID=UTC:20161022T090000
DTEND;TZID=UTC:20161022T150000
DTSTAMP:20260424T154144
CREATED:20160819T053836Z
LAST-MODIFIED:20160819T053836Z
UID:516-1477126800-1477148400@www.kocouricviky.cz
SUMMARY:Seminář Gravitační a antigravitační motorika
DESCRIPTION:Gravitace je neodmyslitelným průvodcem života vzpřímených bytostí a tělo má tendenci se jí přizpůsobovat. Její destruktivní vliv na organismus je patrný v nejrůznějších vadách držení těla. Právě ona může i za potíže s klouby\, když tělo ztratilo pružnost. \nGravitační způsob pohybování\, v němž chybí mechanismy aktivní obrany proti gravitaci\, je naštěstí možné převést na antigravitační. Známkou toho\, že antigravitační mechanismy jsou plně rozvinuty\, je správný – kotníkový typ chůze namísto kyčelního\, jímž se vyznačuje gravitační typ motoriky. \nNa tomto semináři se dozvíte\, že gravitace není náš nepřítel\, ale partner\, s nímž je jen třeba naučit se komunikovat. Dozvíte se nejen to\, jak se bránit jejímu destruktivnímu vlivu\, ale jak jí můžete využít i ve svůj prospěch. Cvičení O-A metodou je na rozvoji tohoto partnerství přímo postaveno. \nV úvodní přednášce se dozvíte\, jak problémy s pohybovým systémem souvisí s gravitací a proč se jí lidský organismus nedokáže bránit\, i když na tom není vlastně nic těžkého. Každý člověk má vrozené předpoklady pro to\, aby zvnitřnil gravitaci ve svém pohybu. Jen se o tom zatím dost neví a rozvoji těchto ochranných mechanismů není věnována potřebná péče. Přejít na antigravitační typ motoriky neznamenáí nic jiného než v sobě plně rozvinout vrozený potenciál pružnosti. \nVše. o čem si na semináři budeme povídat\, se zkouší i prakticky.  Zjistíte\, že k převedení organismu na antigravitační způsob pohybování stačí citlivý přístup k nápravě existujících funkčních poruch pohybového systému – vadným držením těla počínaje a svalovými dysbalancemi a celkovou tuhostí těla konče. \nCvičení O-A metodou jako druh zdravotního cvičení se liší oproti těm\, které gravitaci zohledňují sice také\, ale pouze pevností držení těla. Nerozvíjejí cílevědomě již pružnost\, která je podmíněna uvolněností  při pohybu. Příliš pevné držení těla se s touto druhou stránkou věci může dokonce dostat do rozporu. \nTi\, kteří přejdou včas od jednoho typu motoriky k druhému\, pomohou nejen sobě\, ale mají velkou naději\, že jejich potomci po nich antigravitační typ motoriky již zdědí a ušetří je zdravotních potíží\, které jsou v gravitačním typu motoriky u většiny populace natolik běžné\, že se považují za nevyhnutelný projev stárnutí. \nZájemcům z řad laické veřejnosti ukáže tento seminář\, jakým směrem mají napřít své síly\, odborníci z oblasti tělovýchovy a zdravotnictví  zde najdou množství nových podnětů pro svoji každodenní práci.
URL:https://www.kocouricviky.cz/event/seminar-gravitacni-a-antigravitacni-motorika/
LOCATION:Úřad vlády\, Nábř. E. Beneše 4\, Praha\, 11000\, Česká republika
END:VEVENT
BEGIN:VEVENT
DTSTART;TZID=UTC:20161021T170000
DTEND;TZID=UTC:20161021T200000
DTSTAMP:20260424T154144
CREATED:20160818T201626Z
LAST-MODIFIED:20160819T040253Z
UID:510-1477069200-1477080000@www.kocouricviky.cz
SUMMARY:Seminář Dokonalý pohyb pro každý den
DESCRIPTION:Pro zdraví\, spokojenost a úspěch v životě nejsou důležité stovky naběhaných kilometrů nebo tuny navzpíraných činek\,. Rozhodují maličkosti jako to\, jak vykročíte\, zda máte pružnou páteř nebo zda dokážete vložit do pohybu sílu\, aby se tělo zpevnilo právě tak\, jak je zrovna potřeba. \nZnáte pravidla správného pohybu? Umíte svému tělu poručit? A hlavně – poslechne vás vždy tak\, že každý váš pohyb má takový šmrnc\, jak si představujete? Pokud ano\, patříte k 5% šťastlivců\, kterým tento seminář nepřinese nic nového. Nemůže-li ale odpovědět s čistým svědomím na každou z těchto otázek kladně \, budete překvapení\, kolik se toho můžete ještě naučit a jaké potěšení z pohybu zůstalo před vámi dosud skryto. \nNa semináři se seznámíte se třemi navzájem provázenými složkami základu zdravého pohybu – antigravitačně odlehčeným způsobem chůze a pohybem vsedě\, které společně formují naše držení těla. Jsou to pilíře\, o které se opírá pohyb v každodenním životě\, a měl by je bezpečně ovládat každý\, kdo chce předejít zdravotním potížím s pohybovým aparátem nebo se jich zbavit. \nZjistíte\, co všechno se musíte naučit\, abyste svému tělu vyhověli a mohlo vám spolehlivě sloužit. Vyzkoušíte si\, jak reagovat na sebemenší známku nějaké odchylky a dozvíte se\, čeho je třeba se vyvarovat\, aby nepáchala uvnitř organismu škody\, které by vás odváděly od toho\, co máte rádi. \nOsvojit si aritmetiku pohybu vsedě je nejlepší způsob ochrany bederní i krční páteře. Je to ale i průprava ke správné chůzi\, jejíž nácvik nenechá v klidu jediný sval ve vašem v těle. \nKdo se vydá cestou zdokonlování svého pohybu\, cítí se stále lépe a nemusí se bát ani sedavého zaměstnání\, ani přibývajícího věku.
URL:https://www.kocouricviky.cz/event/seminar-dokonaly-pohyb-pro-kazdy-den-3/
LOCATION:Úřad vlády\, Nábř. E. Beneše 4\, Praha\, 11000\, Česká republika
END:VEVENT
BEGIN:VEVENT
DTSTART;TZID=UTC:20160923T080000
DTEND;TZID=UTC:20160928T170000
DTSTAMP:20260424T154144
CREATED:20160818T102208Z
LAST-MODIFIED:20160818T102628Z
UID:508-1474617600-1475082000@www.kocouricviky.cz
SUMMARY:Školení ve cvičení O-A metodou - podzim 2016 / zima 2017
DESCRIPTION:Obsah školení\, certifikáty\, termíny  \nŠkolení je dotováno 150 výukovými hodinami. Zahrnuje přednášky\, praxi\, hospitace\, vlastní pedagogickou praxi s ostatními účastníky školení i cvičenci.  Každý cyklus je uzavřen písemnou a ústní závěrečnou zkouškou. Pro každou část školení získává úspěšný absolvent certifikát\, který ho opravňuje k provozování vlastní praxe v oboru Pohyb vsedě a Správná chůze. \nNa toto základní školení navazuje stupenň Master\, který opravňuje k samostatné lektorské činnosti\, a  stupeň Teacher\, který opravňující ke školení ve cvičení O-A metodou. \nŠkolení probíhá ve třech 5-idenních cyklech uspořádaných tematicky takto: \n  \nI. část:      Pohyb vsedě         (23. – 28.9. 2016;          2. –     7. 2. 2017) \nII. část:    O-A diagnostika (15. – 20. 11. 2016;    28.4.  – 2. 5. 2017) \nIII. část:  Správná chůze    (12. – 17.  1. 2017;        4.    –   9.7. 2017) \n(V závorce jsou uvedeny plánované termíny školení ve II. polovině roku 2016 a  1. polovině roku 2017. Ve výjimečných případech je možné absolvovat některý cyklus i v rámci jiného školícího období). \nCena  \nCelé školení:  11.900\,- Kč (splatné i po částech)\n \nCena samostatně absolvovaných cyklů:  Pohyb vsedě 5.400\,- Kč \nO-A diagnostika 3.900\,- Kč \nSprávná chůze 6.700\,- Kč \nK přihlášení či případným dotazům využijte prosím formuláře níže.
URL:https://www.kocouricviky.cz/event/skoleni-ve-cviceni-o-a-metodou-podzim-2016-zima-2017/
LOCATION:Úřad vlády\, Nábř. E. Beneše 4\, Praha\, 11000\, Česká republika
CATEGORIES:Školení ve cvičení O-A metodou
END:VEVENT
BEGIN:VEVENT
DTSTART;TZID=UTC:20160919T170000
DTEND;TZID=UTC:20160919T200000
DTSTAMP:20260424T154144
CREATED:20160818T052304Z
LAST-MODIFIED:20160819T040109Z
UID:503-1474304400-1474315200@www.kocouricviky.cz
SUMMARY:Seminář Dokonalý pohyb pro každý den
DESCRIPTION:Pro zdraví\, spokojenost a úspěch v životě nejsou důležité stovky naběhaných kilometrů nebo tuny navzpíraných činek\,. Rozhodují maličkosti jako to\, jak vykročíte\, zda máte pružnou páteř nebo zda dokážete vložit do pohybu sílu\, aby se tělo zpevnilo právě tak\, jak je zrovna potřeba. \nZnáte pravidla správného pohybu? Umíte svému tělu poručit? A hlavně – poslechne vás vždy tak\, že každý váš pohyb má takový šmrnc\, jak si představujete? Pokud ano\, patříte k 5% šťastlivců\, kterým tento seminář nepřinese nic nového. Nemůže-li ale odpovědět s čistým svědomím na každou z těchto otázek kladně \, budete překvapení\, kolik se toho můžete ještě naučit a jaké potěšení z pohybu zůstalo před vámi dosud skryto. \nNa semináři se seznámíte se třemi navzájem provázenými složkami základu zdravého pohybu – antigravitačně odlehčeným způsobem chůze a pohybem vsedě\, které společně formují naše držení těla. Jsou to pilíře\, o které se opírá pohyb v každodenním životě\, a měl by je bezpečně ovládat každý\, kdo chce předejít zdravotním potížím s pohybovým aparátem nebo se jich zbavit. \nZjistíte\, co všechno se musíte naučit\, abyste svému tělu vyhověli a mohlo vám spolehlivě sloužit. Vyzkoušíte si\, jak reagovat na sebemenší známku nějaké odchylky a dozvíte se\, čeho je třeba se vyvarovat\, aby nepáchala uvnitř organismu škody\, které by vás odváděly od toho\, co máte rádi. \nOsvojit si aritmetiku pohybu vsedě je nejlepší způsob ochrany bederní i krční páteře. Je to ale i průprava ke správné chůzi\, jejíž nácvik nenechá v klidu jediný sval ve vašem v těle. \nKdo se vydá cestou zdokonlování svého pohybu\, cítí se stále lépe a nemusí se bát ani sedavého zaměstnání\, ani přibývajícího věku. \n 
URL:https://www.kocouricviky.cz/event/seminar-dokonaly-pohyb-pro-kazdy-den-2/
LOCATION:Úřad vlády\, Nábř. E. Beneše 4\, Praha\, 11000\, Česká republika
END:VEVENT
BEGIN:VEVENT
DTSTART;VALUE=DATE:20160820
DTEND;VALUE=DATE:20160828
DTSTAMP:20260424T154144
CREATED:20160516T070759Z
LAST-MODIFIED:20160516T071235Z
UID:428-1471651200-1472342399@www.kocouricviky.cz
SUMMARY:Prázdniny pro zdokonalení koordinace a držení těla u dětí i dospělých v Pelhřimově
DESCRIPTION:Přijměte naše pozvání do Pelhřimova\, malebného městečko v kouzelné části Českomoravské vrchoviny. \n \nCelý den volno k toulkám a výletům po krásném kraji\, možnost sportování ve čtyřech tělocvičnách přímo v areálu Domova mládeže\, kde budeme ubytováni\, nedaleko je výborné koupání v krytém bazénu či přírodním rybníku Stráž. \nRáno  a v podvečer vás čeká hodinka cvičení\, při kterém se podíváme na zoubek tomu\, co je třeba u koho povzbudit\, vyladit\, srovnat. V rámci cvičení  O-A metodou si zdokonalíte držení těla a projdete nácvikem správné chůze. Za týden se tímto nenásilným zábavným způsobem nechá zlepšit mnohé\, s čím se dlouhodobě potýkáte. Děti dostanou ty správné informace ve správný čas a objeví či rozvinou svůj pohybový talent. \nDomov mládeže nabízí ubytování ve velmi kvalitních dvou a třílůžkových pokojích s vlastním sociálním zařízením. Na jednotlivých patrech jsou kuchyňky a klubovny s TV. K dispozici máme video\, posilovnu\, pinec a basket.\nTaké můžete popojet (vlakem nebo auty) k nádhernému zatopenému písečnému lomu v Horní Cerekvi. A navíc na vás čeká město Pelhřimov\, lákající k večerním procházkám\, se svými romantickými zákoutími\, sportovními\, kulinářskými i kulturními atrakcemi\, včetně slavného muzea kuriozit agentury „Dobrý den“. \n\n\n\n  \n\n\n\n\n\n\n\n\n\nObjednat se na akci\n\nTučně zvýrazněné položky formuláře je nutno vyplnit\n \nVaše jméno\n \n\n \nVaše příjmení\n \n\n \nVáš email\n \n\n \nVáš telefon\n \n\n \nPočet osob\n \n\n \nChcete nám něco vzkázat?\n \n\n \n\n Δ
URL:https://www.kocouricviky.cz/event/prazdniny-pro-zdokonaleni-koordinace-a-drzeni-tela-u-deti-i-dospelych-v-pelhrimove/
LOCATION:Domov mládeže\, Pelhřimov\, Friedova 1464\, Pelhřimov\, 39301\, Česká republika
CATEGORIES:Výjezdní akce
END:VEVENT
BEGIN:VEVENT
DTSTART;TZID=UTC:20160619T140000
DTEND;TZID=UTC:20160619T160000
DTSTAMP:20260424T154144
CREATED:20151113T214157Z
LAST-MODIFIED:20160529T203947Z
UID:39-1466344800-1466352000@www.kocouricviky.cz
SUMMARY:Správné držení těla a koordinace u dětí
DESCRIPTION:Přijměte naše pozvání na seminář a vezměte s sebou i své děti\, pokud si nejste jisti\, že správně rostou. Podíváme se společně na to\, kde je chyba v pohybu. \nVaše dětí se dozví\, jakými pravidly se pohyb řídí\, a pokusíme se vštípit si je cvičením do hlavy. \nZjistíte rovněž\, jakých chybbvyste se jako rodiče měli vyvarovat\, abyste dobře míněnými napomenutími svým dětem spíše neškodili. Děti na ně reagují často nepřiměřeně\, a místo aby se jejich držení těla zlepšilo\, dostanou se do něj jiné chyby. \nProžijete příjemné dopoledne\, kdy se dozvíte mnohé\, co využijete i sami pro sebe. \n\n\n\n  \n\n\n\n\n\n\n\n\n\nObjednat se na akci\n\nTučně zvýrazněné položky formuláře je nutno vyplnit\n \nVaše jméno\n \n\n \nVaše příjmení\n \n\n \nVáš email\n \n\n \nVáš telefon\n \n\n \nPočet osob\n \n\n \nChcete nám něco vzkázat?\n \n\n \n\n Δ
URL:https://www.kocouricviky.cz/event/spravne-drzeni-tela-a-koordinace-u-deti/
LOCATION:Úřad vlády\, Nábř. E. Beneše 4\, Praha\, 11000\, Česká republika
END:VEVENT
BEGIN:VEVENT
DTSTART;VALUE=DATE:20160617
DTEND;VALUE=DATE:20160620
DTSTAMP:20260424T154144
CREATED:20160516T071120Z
LAST-MODIFIED:20160516T071132Z
UID:430-1466121600-1466380799@www.kocouricviky.cz
SUMMARY:Víkend se cvičením pro zdravá záda na koňské farmě u Náchoda
DESCRIPTION:Jako vždy na našich akcích vás čeká ranní a večerní cvičení\, tentokrát na Kyralově statku u Náchoda. Budete tedy moci vyzkoušet\, jak je to s tou hippoterapií\,  a pokud jste na koni jako doma\, prohlížet si kraj ze sedla. \nCvičit budeme buď přímo na statku a v sobotu navečer si dáme prodlouženou v perfektně vybavené tělocvičně v Náchodě. K uyvtování je jen snídaně\, a tak na pátek chystáme grilování a na sobotu po cvičení procházku večerním Náchodem spojenou s večeří v některé z místních restaurací. \nNáchod a blízké okolí vám jistě nemusíme představovat a nepochybujeme o tom\, že se už sami postaráte o to\, aby i tento víkend byl plný skvělých zážitků. \n\n\n\n  \n\n\n\n\n\n\n\n\n\nObjednat se na akci\n\nTučně zvýrazněné položky formuláře je nutno vyplnit\n \nVaše jméno\n \n\n \nVaše příjmení\n \n\n \nVáš email\n \n\n \nVáš telefon\n \n\n \nPočet osob\n \n\n \nChcete nám něco vzkázat?\n \n\n \n\n Δ
URL:https://www.kocouricviky.cz/event/kend-se-cvicenim-pro-zdrava-zada-na-konske-farme-u-nachoda/
LOCATION:Praha
CATEGORIES:Výjezdní akce
END:VEVENT
BEGIN:VEVENT
DTSTART;TZID=UTC:20160612T090000
DTEND;TZID=UTC:20160612T140000
DTSTAMP:20260424T154144
CREATED:20160529T192449Z
LAST-MODIFIED:20160529T192628Z
UID:494-1465722000-1465740000@www.kocouricviky.cz
SUMMARY:Gravitační a antigravitační motorika
DESCRIPTION:Gravitace je pro vzpřímené lidské tělo problém.  Není dobré\, když má nad námi navrch\, o nic lepší ale není ani to\, když na ni reagujeme nepřiměřeně a držíme se zpříma až příliš. \nNa tomto semináři si budeme povídat o tom\, proč člověk není dosud dokonale adaptován na gravitaci a jak si můžeme vytvořit účinný mechanismus proti jejímu destruktivnímu vlivu. Nezůstane samozřejmě jen u povídání\, vše si budeme zkoušet i prakticky. \nCvičení O-A metodou je zatím jediné\, které bere gravitaci v úvahu. A to tak důsledně\, že můžeme dokonce mluvit o dvojím typu motoriky – gravitační\, s níž přicházíme na svět a v níž mechanismus aktivní obrany proti gravitaci chybí – a antigravitační\,  pokud jej v sobě rozvineme. \nSeznámíte se s principy cvičení O-A metodou a vyzkoušíte si\, jak může být pohyb příjemný a snadný\, když na zemi nespočíváme jak pytel brambor\, aleumíme se tím správným způsobem odlehčit.
URL:https://www.kocouricviky.cz/event/gravitacni-a-antigravitacni-motorika/
LOCATION:Praha
END:VEVENT
BEGIN:VEVENT
DTSTART;TZID=UTC:20160611T170000
DTEND;TZID=UTC:20160611T200000
DTSTAMP:20260424T154144
CREATED:20160516T072429Z
LAST-MODIFIED:20160516T072435Z
UID:434-1465664400-1465675200@www.kocouricviky.cz
SUMMARY:Seminář Dokonalý pohyb pro každý den
DESCRIPTION:Na tomto novém semináři se seznámíte se třemi navzájem provázenými složkami základu zdravého pohybu – správným držením těla\, antigravitačně odlehčeným způsobem chůze a pohybem vsedě. Měl by je měl zvládnout perfektně každý\, kdo chce předejít zdravotním potížím s pohybovým aparátem nebo se jich zbavit. \nJe také dobré rozumět tomu proč cvičit právě tak a ne jinak a co přesně potřebujete právě Vy.  V úvodní přednášce semináře se dozvíte\, proč je správné držení těla pro člověka tak důležté\, v čem spočívá a proč s ním jako vzpřímené bytosti máme takové potíže. Rozebereme si kritická období vývoje držení těla v různých věkových obdobích  a vždy si rovnou i ukážeme\, jak reagovat na první známky různých odchylek. Dozvíte se\, čeho je naopak třeba se vyvarovat\, abyste ve snaze držet se správně něco nepřehnali\, nevydali se nesprávným směrem a snahou uchránit své děti před vadným držením těla jim neprokázali medvědí službu. \nVyzkoušíte si\, že pohyb vsedě na židli je naprosto základní způsob ochrany bederní páteře a velmi užitečný prostředek odstranění potíží s koleny a chodidly\, a přestanete se obávat sedavého zaměstnání \nBudete překvapeni\, jak málo někdy stačí k tomu\, aby se dlouhodobě zažité nesprávné pohybové stereotypy změnily ve správné. \nZbude dost času  i na vaše dotazy\,  vyzkoušení různých cviků a přístupů či výměnu zkušeností s ostatními účastníky semináře. \n\n\n\n  \n\n\n\n\n\n\n\n\n\nObjednat se na akci\n\nTučně zvýrazněné položky formuláře je nutno vyplnit\n \nVaše jméno\n \n\n \nVaše příjmení\n \n\n \nVáš email\n \n\n \nVáš telefon\n \n\n \nPočet osob\n \n\n \nChcete nám něco vzkázat?\n \n\n \n\n Δ
URL:https://www.kocouricviky.cz/event/seminar-dokonaly-pohyb-pro-kazdy-den/
LOCATION:Úřad vlády\, Nábř. E. Beneše 4\, Praha\, 11000\, Česká republika
CATEGORIES:Workshop
END:VEVENT
END:VCALENDAR